BEGIN:VCALENDAR
VERSION:2.0
PRODID:-//Alfred Nzo District Municaipality - ECPv5.8.0//NONSGML v1.0//EN
CALSCALE:GREGORIAN
METHOD:PUBLISH
X-WR-CALNAME:Alfred Nzo District Municaipality
X-ORIGINAL-URL:https://www.andm.gov.za
X-WR-CALDESC:Events for Alfred Nzo District Municaipality
BEGIN:VTIMEZONE
TZID:UTC
BEGIN:STANDARD
TZOFFSETFROM:+0000
TZOFFSETTO:+0000
TZNAME:UTC
DTSTART:20210101T000000
END:STANDARD
END:VTIMEZONE
BEGIN:VEVENT
DTSTART;TZID=UTC:20210625T100000
DTEND;TZID=UTC:20210625T120000
DTSTAMP:20210718T194858
CREATED:20210617T085608Z
LAST-MODIFIED:20210617T085608Z
UID:4456-1624615200-1624622400@www.andm.gov.za
SUMMARY:State of the Address Address (SoDA)
DESCRIPTION:Alfred Nzo District Municipality will host its Annual State of the District Address 2021 at Xholobeni Village ward 25 in Winnie Madikizela Mandela Local Municipality
URL:https://www.andm.gov.za/?tribe_events=state-of-the-address-address-soda
END:VEVENT
END:VCALENDAR